BEGIN:VCALENDAR
VERSION:2.0
PRODID:-//wp-events-plugin.com//7.2.3.1//EN
TZID:Europe/Berlin
X-WR-TIMEZONE:Europe/Berlin
BEGIN:VEVENT
UID:94@z14.vfdb.org
DTSTART;TZID=Europe/Berlin:20270107T170000
DTEND;TZID=Europe/Berlin:20270107T200000
DTSTAMP:20251208T171445Z
URL:https://z14.vfdb.org/events/jahresmitgliederversammlung2027/
SUMMARY:Jahresmitglieder-versammlung VFDB OV Münster Z14 in Nienberge
DESCRIPTION:Liebe Mitglieder von Z14\,\nliebe YL's \, XYL´s und OM´s\,\n\
 nhiermit lade ich Euch zur Jahresmitgliederversammlung des VFDB OV Münste
 r Z14&nbsp\; im Wirtshaus zur Post in Münster-Nienberge ein.\nWir starten
  um 17 Uhr mit dem Essen und führen danach die offizielle Jahresmitgliede
 rversammlung durch.\n\nFür eine gute Vorbereitung\, bitte ich Euch auf di
 eser Seite unter "Buchungen" eure Teilnahme zu bestätigen. Unter Name bra
 ucht Ihr nur euren Vornamen und das Rufzeichen sowie die Emailadresse für
  die Buchungsbestätigung eintragen. Die Daten werden nur für diese Veran
 staltung gespeichert und anschließend von mir gelöscht.\n\nHier die Einl
 adung mit Tagesordnung:&nbsp\;Einladung JHV 2026\nDas Protokoll und die Un
 terlagen der letzten Jahresmitgliederversammlung findet Ihr hier: JHV 2025
  Protokoll.\n\nGäste sind ausdrücklich erwünscht!\n\nIch freue mich auf
  eine rege Teilnahme!\n\nvy 73 wünscht euch\n\nDL1UDM (Ulrich Drafz\, OVV
  Z14)\nDG6YH (Thomas Kühnemund\, Stv OVV Z14)
CATEGORIES:JHV,OV Abend
LOCATION:Wirtshaus zur Post\, Altenberger Strasse 8\, Münster - Nienberge\
 , NRW\, 48161\, Deutschland
X-APPLE-STRUCTURED-LOCATION;VALUE=URI;X-ADDRESS=Altenberger Strasse 8\, Mü
 nster - Nienberge\, NRW\, 48161\, Deutschland;X-APPLE-RADIUS=100;X-TITLE=W
 irtshaus zur Post:geo:0,0
END:VEVENT
BEGIN:VTIMEZONE
TZID:Europe/Berlin
X-LIC-LOCATION:Europe/Berlin
BEGIN:STANDARD
DTSTART:20261025T020000
TZOFFSETFROM:+0200
TZOFFSETTO:+0100
TZNAME:CET
END:STANDARD
END:VTIMEZONE
END:VCALENDAR