BEGIN:VCALENDAR
VERSION:2.0
PRODID:-//wp-events-plugin.com//7.2.3.1//EN
TZID:Europe/Berlin
X-WR-TIMEZONE:Europe/Berlin
BEGIN:VEVENT
UID:89@z14.vfdb.org
DTSTART;TZID=Europe/Berlin:20260507T170000
DTEND;TZID=Europe/Berlin:20260507T200000
DTSTAMP:20260415T130905Z
URL:https://z14.vfdb.org/events/ov-praesenztreffen-2026-05-07/
SUMMARY:VFDB OV Münster Z14 Präsenztreffen
DESCRIPTION:Liebe Mitglieder von Z14 und benachbarten OV´s\nliebe YL's \, 
 XYL´s und OM´s\,\n\nhiermit laden wir Euch zum nächsten OV-Präsenz-Abe
 nd im Wirtshaus zur Post in Münster Nienberge ein.\n\nTagesordnungspunkte
  an z14-ovv@vfdb.org sind wie immer herzlich willkommen.\nGäste sind ausd
 rücklich erwünscht!\n\nIch freue mich auf eine rege Teilnahme!\n\nvy 73 
 wünschen Euch\n\nDL1UDM (Ulrich Drafz\, OVV Z14)\nDG6YH (Thomas Kühnemun
 d\, Stv. OVV Z14)
ATTACH;FMTTYPE=image/jpeg:https://z14.vfdb.org/wp-content/uploads/2025/12/
 Logo-OV-Abend-Z14.jpg
CATEGORIES:OV Abend
LOCATION:Wirtshaus zur Post\, Altenberger Strasse 8\, Münster - Nienberge\
 , NRW\, 48161\, Deutschland
X-APPLE-STRUCTURED-LOCATION;VALUE=URI;X-ADDRESS=Altenberger Strasse 8\, Mü
 nster - Nienberge\, NRW\, 48161\, Deutschland;X-APPLE-RADIUS=100;X-TITLE=W
 irtshaus zur Post:geo:0,0
END:VEVENT
BEGIN:VTIMEZONE
TZID:Europe/Berlin
X-LIC-LOCATION:Europe/Berlin
BEGIN:DAYLIGHT
DTSTART:20260329T030000
TZOFFSETFROM:+0100
TZOFFSETTO:+0200
TZNAME:CEST
END:DAYLIGHT
END:VTIMEZONE
END:VCALENDAR