BEGIN:VCALENDAR
VERSION:2.0
PRODID:-//wp-events-plugin.com//7.2.3.1//EN
TZID:Europe/Berlin
X-WR-TIMEZONE:Europe/Berlin
BEGIN:VEVENT
UID:103@z14.vfdb.org
DTSTART;TZID=Europe/Berlin:20261215T193000
DTEND;TZID=Europe/Berlin:20261215T210000
DTSTAMP:20260213T212135Z
URL:https://z14.vfdb.org/events/zulu-talk-2026-12-15/
SUMMARY:Zulu Talk
DESCRIPTION:Ihr gelangt zum ZuluTalk wieder über:\nhttps://www.vfdb.org/zu
 lutalk\ndirekt in den Konferenzraum (wenn dieser geöffnet ist – ab 19:3
 0 Uhr).\nVergesst nicht\, euren Namen\, Call und wenn vorhanden den DOK ei
 nzutragen.\nDies ist zwingend nötig wenn euere Teilnahme für den VFDB in
 ternen Wettbewerb VFDB-Aktiv zählen soll!
ATTACH;FMTTYPE=image/jpeg:https://z14.vfdb.org/wp-content/uploads/2026/02/
 ZuluTalk-Aufmacher.jpg
CATEGORIES:ZuluTalk
LOCATION:https://www.vfdb.org/zulutalk
END:VEVENT
BEGIN:VTIMEZONE
TZID:Europe/Berlin
X-LIC-LOCATION:Europe/Berlin
BEGIN:STANDARD
DTSTART:20261025T020000
TZOFFSETFROM:+0200
TZOFFSETTO:+0100
TZNAME:CET
END:STANDARD
END:VTIMEZONE
END:VCALENDAR